BEGIN:VCALENDAR
VERSION:2.0
PRODID:-//Freiwillige Feuerwehr Niederkreuzstetten - ECPv6.15.18//NONSGML v1.0//EN
CALSCALE:GREGORIAN
METHOD:PUBLISH
X-ORIGINAL-URL:https://ff-niederkreuzstetten.at
X-WR-CALDESC:Veranstaltungen für Freiwillige Feuerwehr Niederkreuzstetten
REFRESH-INTERVAL;VALUE=DURATION:PT1H
X-Robots-Tag:noindex
X-PUBLISHED-TTL:PT1H
BEGIN:VTIMEZONE
TZID:Europe/Vienna
BEGIN:DAYLIGHT
TZOFFSETFROM:+0100
TZOFFSETTO:+0200
TZNAME:CEST
DTSTART:20240331T010000
END:DAYLIGHT
BEGIN:STANDARD
TZOFFSETFROM:+0200
TZOFFSETTO:+0100
TZNAME:CET
DTSTART:20241027T010000
END:STANDARD
BEGIN:DAYLIGHT
TZOFFSETFROM:+0100
TZOFFSETTO:+0200
TZNAME:CEST
DTSTART:20250330T010000
END:DAYLIGHT
BEGIN:STANDARD
TZOFFSETFROM:+0200
TZOFFSETTO:+0100
TZNAME:CET
DTSTART:20251026T010000
END:STANDARD
BEGIN:DAYLIGHT
TZOFFSETFROM:+0100
TZOFFSETTO:+0200
TZNAME:CEST
DTSTART:20260329T010000
END:DAYLIGHT
BEGIN:STANDARD
TZOFFSETFROM:+0200
TZOFFSETTO:+0100
TZNAME:CET
DTSTART:20261025T010000
END:STANDARD
BEGIN:DAYLIGHT
TZOFFSETFROM:+0100
TZOFFSETTO:+0200
TZNAME:CEST
DTSTART:20270328T010000
END:DAYLIGHT
BEGIN:STANDARD
TZOFFSETFROM:+0200
TZOFFSETTO:+0100
TZNAME:CET
DTSTART:20271031T010000
END:STANDARD
END:VTIMEZONE
BEGIN:VEVENT
DTSTART;TZID=Europe/Vienna:20260411T160000
DTEND;TZID=Europe/Vienna:20260411T200000
DTSTAMP:20260422T130013
CREATED:20260110T114608Z
LAST-MODIFIED:20260110T114619Z
UID:6412-1775923200-1775937600@ff-niederkreuzstetten.at
SUMMARY:Unterabschnittsübung
DESCRIPTION:
URL:https://ff-niederkreuzstetten.at/veranstaltung/unterabschnittsuebung-3/
LOCATION:FF Streifing\, Vordere Dorfstraße 10\, Streifing\, Niederösterreich\, 2125\, Austria
CATEGORIES:Übung
END:VEVENT
BEGIN:VEVENT
DTSTART;TZID=Europe/Vienna:20260312T190000
DTEND;TZID=Europe/Vienna:20260312T220000
DTSTAMP:20260422T130013
CREATED:20260110T114354Z
LAST-MODIFIED:20260110T114505Z
UID:6409-1773342000-1773352800@ff-niederkreuzstetten.at
SUMMARY:Zugsübung – Gruppe 2
DESCRIPTION:Zugsübung für Gruppe 2 und alle aus Gruppe 1\,  die zum Termin Gruppe 2 nicht teilnehmen können
URL:https://ff-niederkreuzstetten.at/veranstaltung/zugsuebung-gruppe-2/
LOCATION:FF Niederkreuzstetten Zeughaus\, Hauptstrasse 2\, Niederkreuzstetten\, Niederösterreich\, 2124\, Österreich
CATEGORIES:Übung
END:VEVENT
BEGIN:VEVENT
DTSTART;TZID=Europe/Vienna:20260309T190000
DTEND;TZID=Europe/Vienna:20260309T220000
DTSTAMP:20260422T130013
CREATED:20260110T113852Z
LAST-MODIFIED:20260110T114130Z
UID:6406-1773082800-1773093600@ff-niederkreuzstetten.at
SUMMARY:Zugsübung - Gruppe 1
DESCRIPTION:Zugsübung für Gruppe 1 und alle aus Gruppe 2\,  die zum Termin Gruppe 2 nicht teilnehmen können.
URL:https://ff-niederkreuzstetten.at/veranstaltung/zugsuebung-gruppe-1/
LOCATION:FF Niederkreuzstetten Zeughaus\, Hauptstrasse 2\, Niederkreuzstetten\, Niederösterreich\, 2124\, Österreich
CATEGORIES:Übung
END:VEVENT
BEGIN:VEVENT
DTSTART;TZID=Europe/Vienna:20260218T190000
DTEND;TZID=Europe/Vienna:20260218T210000
DTSTAMP:20260422T130013
CREATED:20260110T103332Z
LAST-MODIFIED:20260110T114136Z
UID:6404-1771441200-1771448400@ff-niederkreuzstetten.at
SUMMARY:Winterschulung
DESCRIPTION:
URL:https://ff-niederkreuzstetten.at/veranstaltung/winterschulung-3/
LOCATION:FF Niederkreuzstetten Zeughaus\, Hauptstrasse 2\, Niederkreuzstetten\, Niederösterreich\, 2124\, Österreich
CATEGORIES:Schulung
END:VEVENT
BEGIN:VEVENT
DTSTART;TZID=Europe/Vienna:20260128T190000
DTEND;TZID=Europe/Vienna:20260128T210000
DTSTAMP:20260422T130013
CREATED:20260110T103110Z
LAST-MODIFIED:20260110T114148Z
UID:6402-1769626800-1769634000@ff-niederkreuzstetten.at
SUMMARY:Übung
DESCRIPTION:
URL:https://ff-niederkreuzstetten.at/veranstaltung/uebung-4/
LOCATION:FF Niederkreuzstetten Zeughaus\, Hauptstrasse 2\, Niederkreuzstetten\, Niederösterreich\, 2124\, Österreich
CATEGORIES:Schulung
END:VEVENT
BEGIN:VEVENT
DTSTART;TZID=Europe/Vienna:20260110T160000
DTEND;TZID=Europe/Vienna:20260110T220000
DTSTAMP:20260422T130013
CREATED:20250222T144007Z
LAST-MODIFIED:20251225T090050Z
UID:5238-1768060800-1768082400@ff-niederkreuzstetten.at
SUMMARY:Jahreshauptversammlung 2026
DESCRIPTION:16:00 Uhr – gemeinsames Gruppenfoto In Dienstbekleidung \nStart: 17:00  – Mitglieder- und Wahlversammlung 2026 \nTagesordnung: \n\nEröffnung und Begrüßung\nFeststellung der Beschlussfähigkeit.\nTotengedenken.\nRechnungsabschluss für das Jahr 2025:\na) Bericht des Kassenverwalters\,\nb) Bericht der Kassaprüfer und Entlastung des Kassiers.\nBestellung von 2 Kassaprüfern für das Jahr 2026.\n   Voranschlag 2026 – mit Beschlussfassung\nBericht des Leiters Verwaltungsdienst\nBericht des Kommandanten mit Beförderungen und Ehrungen\nBericht des Kommandantenstellvertreters\nBerichte der Sachbearbeiter/Chargen\nAnsprache des Bürgermeisters\nWahlen gem. NÖ FG 2015 und NÖ FO (Kommandant und Stellvertreter)\nAngelobung von Feuerwehrkommandant und Feuerwehrkommandant-Stv. durch BGM.\nBestellung des Leiters des Verwaltungsdienstes durch den neuen Kommandanten.\nSchulung aller Mitglieder\nAllfälliges
URL:https://ff-niederkreuzstetten.at/veranstaltung/jahreshauptversammlung-2026/
LOCATION:FF Niederkreuzstetten Zeughaus\, Hauptstrasse 2\, Niederkreuzstetten\, Niederösterreich\, 2124\, Österreich
CATEGORIES:Jahreshauptversammlung
END:VEVENT
BEGIN:VEVENT
DTSTART;TZID=Europe/Vienna:20251211T190000
DTEND;TZID=Europe/Vienna:20251211T220000
DTSTAMP:20260422T130013
CREATED:20250222T144002Z
LAST-MODIFIED:20250222T152553Z
UID:5236-1765479600-1765490400@ff-niederkreuzstetten.at
SUMMARY:Einsatzübung
DESCRIPTION:Einsatzübung: Alarmierung (zu Hause) und Ablauf wie bei einem realen Einsatz!
URL:https://ff-niederkreuzstetten.at/veranstaltung/einsatzuebung-3/
LOCATION:FF Niederkreuzstetten Zeughaus\, Hauptstrasse 2\, Niederkreuzstetten\, Niederösterreich\, 2124\, Österreich
CATEGORIES:Übung
END:VEVENT
BEGIN:VEVENT
DTSTART;TZID=Europe/Vienna:20251117T190000
DTEND;TZID=Europe/Vienna:20251117T220000
DTSTAMP:20260422T130013
CREATED:20250222T143941Z
LAST-MODIFIED:20250222T144433Z
UID:5232-1763406000-1763416800@ff-niederkreuzstetten.at
SUMMARY:Zugsübung - ZUG 1
DESCRIPTION:Zugsübung für ZUG1 und alle aus ZUG2\, die zur Zugsübung ZUG2 nicht teilnehmen können.
URL:https://ff-niederkreuzstetten.at/veranstaltung/zugsuebung-zug-1-2/
LOCATION:FF Niederkreuzstetten Zeughaus\, Hauptstrasse 2\, Niederkreuzstetten\, Niederösterreich\, 2124\, Österreich
CATEGORIES:Übung
END:VEVENT
BEGIN:VEVENT
DTSTART;TZID=Europe/Vienna:20251105T190000
DTEND;TZID=Europe/Vienna:20251105T210000
DTSTAMP:20260422T130013
CREATED:20250222T143935Z
LAST-MODIFIED:20250222T143954Z
UID:5229-1762369200-1762376400@ff-niederkreuzstetten.at
SUMMARY:Schulung Führungskräfte
DESCRIPTION:EL & GKDT
URL:https://ff-niederkreuzstetten.at/veranstaltung/schulung-fuehrungskraefte/
LOCATION:FF Niederkreuzstetten Zeughaus\, Hauptstrasse 2\, Niederkreuzstetten\, Niederösterreich\, 2124\, Österreich
CATEGORIES:Schulung
END:VEVENT
BEGIN:VEVENT
DTSTART;TZID=Europe/Vienna:20251023T183000
DTEND;TZID=Europe/Vienna:20251023T210000
DTSTAMP:20260422T130013
CREATED:20250222T143931Z
LAST-MODIFIED:20250222T143949Z
UID:5227-1761244200-1761253200@ff-niederkreuzstetten.at
SUMMARY:Finnentest
DESCRIPTION:
URL:https://ff-niederkreuzstetten.at/veranstaltung/finnentest-2/
LOCATION:FF Niederkreuzstetten Zeughaus\, Hauptstrasse 2\, Niederkreuzstetten\, Niederösterreich\, 2124\, Österreich
CATEGORIES:FitnessCheck
END:VEVENT
BEGIN:VEVENT
DTSTART;TZID=Europe/Vienna:20251020T183000
DTEND;TZID=Europe/Vienna:20251020T210000
DTSTAMP:20260422T130013
CREATED:20250222T143927Z
LAST-MODIFIED:20250222T143927Z
UID:5225-1760985000-1760994000@ff-niederkreuzstetten.at
SUMMARY:Finnentest
DESCRIPTION:
URL:https://ff-niederkreuzstetten.at/veranstaltung/finnentest/
LOCATION:FF Niederkreuzstetten Zeughaus\, Hauptstrasse 2\, Niederkreuzstetten\, Niederösterreich\, 2124\, Österreich
CATEGORIES:FitnessCheck
END:VEVENT
BEGIN:VEVENT
DTSTART;TZID=Europe/Vienna:20251006T190000
DTEND;TZID=Europe/Vienna:20251006T220000
DTSTAMP:20260422T130013
CREATED:20250222T143923Z
LAST-MODIFIED:20251001T133015Z
UID:5223-1759777200-1759788000@ff-niederkreuzstetten.at
SUMMARY:ATS - Sturmübung
DESCRIPTION:
URL:https://ff-niederkreuzstetten.at/veranstaltung/ats-sturmuebung-block/
LOCATION:FF Niederkreuzstetten Zeughaus\, Hauptstrasse 2\, Niederkreuzstetten\, Niederösterreich\, 2124\, Österreich
CATEGORIES:Übung
END:VEVENT
BEGIN:VEVENT
DTSTART;TZID=Europe/Vienna:20250928T093000
DTEND;TZID=Europe/Vienna:20250928T210000
DTSTAMP:20260422T130013
CREATED:20250923T161503Z
LAST-MODIFIED:20250923T162008Z
UID:6182-1759051800-1759093200@ff-niederkreuzstetten.at
SUMMARY:Kellergassenfest 2025
DESCRIPTION:
URL:https://ff-niederkreuzstetten.at/veranstaltung/kellergassenfest-2025/
LOCATION:NK Kellergasse\, Kellergasse\, Niederkreuzstetten\, Niederösterreich\, 2124\, Austria
END:VEVENT
BEGIN:VEVENT
DTSTART;TZID=Europe/Vienna:20250919T180000
DTEND;TZID=Europe/Vienna:20250919T235900
DTSTAMP:20260422T130013
CREATED:20250222T143908Z
LAST-MODIFIED:20250902T110843Z
UID:5219-1758304800-1758326340@ff-niederkreuzstetten.at
SUMMARY:Grillfeier
DESCRIPTION:
URL:https://ff-niederkreuzstetten.at/veranstaltung/grillfeier-block/
LOCATION:FF Niederkreuzstetten Zeughaus\, Hauptstrasse 2\, Niederkreuzstetten\, Niederösterreich\, 2124\, Österreich
CATEGORIES:Veranstaltung
END:VEVENT
BEGIN:VEVENT
DTSTART;TZID=Europe/Vienna:20250916T190000
DTEND;TZID=Europe/Vienna:20250916T220000
DTSTAMP:20260422T130013
CREATED:20250222T143917Z
LAST-MODIFIED:20250222T152526Z
UID:5221-1758049200-1758060000@ff-niederkreuzstetten.at
SUMMARY:Übung
DESCRIPTION:
URL:https://ff-niederkreuzstetten.at/veranstaltung/uebung-3/
LOCATION:FF Niederkreuzstetten Zeughaus\, Hauptstrasse 2\, Niederkreuzstetten\, Niederösterreich\, 2124\, Österreich
CATEGORIES:Übung
END:VEVENT
BEGIN:VEVENT
DTSTART;TZID=Europe/Vienna:20250730T190000
DTEND;TZID=Europe/Vienna:20250730T220000
DTSTAMP:20260422T130013
CREATED:20250222T143902Z
LAST-MODIFIED:20250222T143902Z
UID:5217-1753902000-1753912800@ff-niederkreuzstetten.at
SUMMARY:Sommerübung
DESCRIPTION:
URL:https://ff-niederkreuzstetten.at/veranstaltung/sommeruebung-2/
LOCATION:FF Niederkreuzstetten Zeughaus\, Hauptstrasse 2\, Niederkreuzstetten\, Niederösterreich\, 2124\, Österreich
CATEGORIES:Übung
END:VEVENT
BEGIN:VEVENT
DTSTART;VALUE=DATE:20250703
DTEND;VALUE=DATE:20250707
DTSTAMP:20260422T130013
CREATED:20250222T154322Z
LAST-MODIFIED:20250222T154322Z
UID:5276-1751500800-1751846399@ff-niederkreuzstetten.at
SUMMARY:JF - Landestreffen der NÖ Feuerwehrjugend
DESCRIPTION:
URL:https://ff-niederkreuzstetten.at/veranstaltung/jf-landestreffen-der-noe-feuerwehrjugend/
CATEGORIES:Feuerwehrjugend
END:VEVENT
BEGIN:VEVENT
DTSTART;TZID=Europe/Vienna:20250628T160000
DTEND;TZID=Europe/Vienna:20250628T220000
DTSTAMP:20260422T130013
CREATED:20250219T204900Z
LAST-MODIFIED:20250222T151549Z
UID:5213-1751126400-1751148000@ff-niederkreuzstetten.at
SUMMARY:Übung Tiefgarage
DESCRIPTION:
URL:https://ff-niederkreuzstetten.at/veranstaltung/uebung-tiefgarage/
LOCATION:FF Streifing\, Vordere Dorfstraße 10\, Streifing\, Niederösterreich\, 2125\, Austria
CATEGORIES:Übung
END:VEVENT
BEGIN:VEVENT
DTSTART;VALUE=DATE:20250621
DTEND;VALUE=DATE:20250623
DTSTAMP:20260422T130013
CREATED:20250222T151726Z
LAST-MODIFIED:20250222T151905Z
UID:5267-1750464000-1750636799@ff-niederkreuzstetten.at
SUMMARY:Feuerwehr - Kirtag/Heuriger
DESCRIPTION:lt. Einteilung
URL:https://ff-niederkreuzstetten.at/veranstaltung/feuerwehr-kirtag-heuriger-2/
LOCATION:FF Niederkreuzstetten Zeughaus\, Hauptstrasse 2\, Niederkreuzstetten\, Niederösterreich\, 2124\, Österreich
CATEGORIES:Veranstaltung
END:VEVENT
BEGIN:VEVENT
DTSTART;TZID=Europe/Vienna:20250615T123000
DTEND;TZID=Europe/Vienna:20250615T180000
DTSTAMP:20260422T130013
CREATED:20250222T154049Z
LAST-MODIFIED:20250222T154049Z
UID:5274-1749990600-1750010400@ff-niederkreuzstetten.at
SUMMARY:JF - Bewerb
DESCRIPTION:
URL:https://ff-niederkreuzstetten.at/veranstaltung/jf-bewerb-3/
CATEGORIES:Feuerwehrjugend
END:VEVENT
BEGIN:VEVENT
DTSTART;TZID=Europe/Vienna:20250614T170000
DTEND;TZID=Europe/Vienna:20250614T220000
DTSTAMP:20260422T130013
CREATED:20250222T143858Z
LAST-MODIFIED:20250222T143858Z
UID:5211-1749920400-1749938400@ff-niederkreuzstetten.at
SUMMARY:Zeltaufbau für FF Kirtag/Heuriger
DESCRIPTION:
URL:https://ff-niederkreuzstetten.at/veranstaltung/zeltaufbau-fuer-ff-kirtag-heuriger/
LOCATION:FF Niederkreuzstetten Zeughaus\, Hauptstrasse 2\, Niederkreuzstetten\, Niederösterreich\, 2124\, Österreich
CATEGORIES:Veranstaltung
END:VEVENT
BEGIN:VEVENT
DTSTART;TZID=Europe/Vienna:20250607T123000
DTEND;TZID=Europe/Vienna:20250607T180000
DTSTAMP:20260422T130013
CREATED:20250222T153955Z
LAST-MODIFIED:20250222T153955Z
UID:5272-1749299400-1749319200@ff-niederkreuzstetten.at
SUMMARY:JF - Bewerb
DESCRIPTION:
URL:https://ff-niederkreuzstetten.at/veranstaltung/jf-bewerb-2/
CATEGORIES:Feuerwehrjugend
END:VEVENT
BEGIN:VEVENT
DTSTART;TZID=Europe/Vienna:20250527T190000
DTEND;TZID=Europe/Vienna:20250527T210000
DTSTAMP:20260422T130013
CREATED:20250222T143825Z
LAST-MODIFIED:20250518T191715Z
UID:5209-1748372400-1748379600@ff-niederkreuzstetten.at
SUMMARY:Arbeiten im Gleisbereich & richtiges Vorgehen bei Schadstoffunfällen
DESCRIPTION:
URL:https://ff-niederkreuzstetten.at/veranstaltung/uebung-schadstoff-oebb-block/
CATEGORIES:Übung
END:VEVENT
BEGIN:VEVENT
DTSTART;TZID=Europe/Vienna:20250525T130000
DTEND;TZID=Europe/Vienna:20250525T200000
DTSTAMP:20260422T130013
CREATED:20250222T143820Z
LAST-MODIFIED:20250222T143820Z
UID:5205-1748178000-1748203200@ff-niederkreuzstetten.at
SUMMARY:Tag der Blasmusik
DESCRIPTION:
URL:https://ff-niederkreuzstetten.at/veranstaltung/tag-der-blasmusik/
LOCATION:Schloss Niederkreuzstetten\, Schloßstraße 1\, Niederkreuzstetten\, Niederösterreich\, 2124\, Austria
CATEGORIES:Veranstaltung
END:VEVENT
BEGIN:VEVENT
DTSTART;TZID=Europe/Vienna:20250515T190000
DTEND;TZID=Europe/Vienna:20250515T220000
DTSTAMP:20260422T130013
CREATED:20250222T143815Z
LAST-MODIFIED:20250222T143815Z
UID:5201-1747335600-1747346400@ff-niederkreuzstetten.at
SUMMARY:Übung
DESCRIPTION:
URL:https://ff-niederkreuzstetten.at/veranstaltung/uebung-2/
LOCATION:FF Hautzendorf\, Kirchenstraße 25\, Hautzendorf\, Niederösterreich\, 2123\, Austria
CATEGORIES:Übung
END:VEVENT
BEGIN:VEVENT
DTSTART;TZID=Europe/Vienna:20250510T140000
DTEND;TZID=Europe/Vienna:20250510T190000
DTSTAMP:20260422T130013
CREATED:20250222T143810Z
LAST-MODIFIED:20250424T172123Z
UID:5199-1746885600-1746903600@ff-niederkreuzstetten.at
SUMMARY:Tag der offenen Tore
DESCRIPTION:TagDerOffenenTore25_v2
URL:https://ff-niederkreuzstetten.at/veranstaltung/tag-der-offenen-tore/
LOCATION:FF Niederkreuzstetten Zeughaus\, Hauptstrasse 2\, Niederkreuzstetten\, Niederösterreich\, 2124\, Österreich
CATEGORIES:Veranstaltung
END:VEVENT
BEGIN:VEVENT
DTSTART;TZID=Europe/Vienna:20250501T090000
DTEND;TZID=Europe/Vienna:20250501T140000
DTSTAMP:20260422T130013
CREATED:20250219T204747Z
LAST-MODIFIED:20250424T171859Z
UID:5196-1746090000-1746108000@ff-niederkreuzstetten.at
SUMMARY:Florianimesse - 140 Jahre FF Oberkreuzstetten
DESCRIPTION:Treffpunkt:\n09:00 beim FF Haus Niederkreuzstetten\n09:15 beim FF Haus Oberkreuzstetten \nBeginnn der Florianimesse um 09:30 \nAdjustierung:\nAusgangsuniform braun\, wer keine hat – Dienstbekleidung blau
URL:https://ff-niederkreuzstetten.at/veranstaltung/florianimesse-2/
LOCATION:FF Oberkreuzstetten\, Florianigasse 1\, Oberkreuzstetten\, Niederösterreich\, 2124\, Austria
CATEGORIES:Veranstaltung
END:VEVENT
BEGIN:VEVENT
DTSTART;TZID=Europe/Vienna:20250430T160000
DTEND;TZID=Europe/Vienna:20250430T220000
DTSTAMP:20260422T130013
CREATED:20250222T143804Z
LAST-MODIFIED:20250424T171501Z
UID:5194-1746028800-1746050400@ff-niederkreuzstetten.at
SUMMARY:Maibaum holen und aufstellen
DESCRIPTION:Treffpunkt um 16:00 beim Feuerwehrhaus.\nAbfahrt um 17:00 zum Maibaum holen
URL:https://ff-niederkreuzstetten.at/veranstaltung/maibaum-holen-und-aufstellen/
LOCATION:FF Niederkreuzstetten Zeughaus\, Hauptstrasse 2\, Niederkreuzstetten\, Niederösterreich\, 2124\, Österreich
CATEGORIES:Veranstaltung
END:VEVENT
BEGIN:VEVENT
DTSTART;TZID=Europe/Vienna:20250404T150000
DTEND;TZID=Europe/Vienna:20250404T200000
DTSTAMP:20260422T130013
CREATED:20250222T151407Z
LAST-MODIFIED:20250331T195212Z
UID:5192-1743778800-1743796800@ff-niederkreuzstetten.at
SUMMARY:Unterabschnittsübung in der VS-Kreuzstetten
DESCRIPTION:Bei der diesjährigen Unterabschnittsübung wird die Räumung der Volksschule Kreuzstetten beübt. \n14:45 Treffpunkt im Feuerwehrhaus.
URL:https://ff-niederkreuzstetten.at/veranstaltung/unterabschnittsuebung-2/
LOCATION:FF Niederkreuzstetten Zeughaus\, Hauptstrasse 2\, Niederkreuzstetten\, Niederösterreich\, 2124\, Österreich
CATEGORIES:Übung
END:VEVENT
BEGIN:VEVENT
DTSTART;TZID=Europe/Vienna:20250329T131500
DTEND;TZID=Europe/Vienna:20250329T170000
DTSTAMP:20260422T130013
CREATED:20250324T062026Z
LAST-MODIFIED:20250324T062355Z
UID:5373-1743254100-1743267600@ff-niederkreuzstetten.at
SUMMARY:Wissenstestspiel u. Wissenstest der Feuerwehrjugend
DESCRIPTION:ORT: Neue Mittelschule II- Kirchenplatz\, Wolkersdorf
URL:https://ff-niederkreuzstetten.at/veranstaltung/wissenstestspiel-u-wissenstest-der-feuerwehrjugend/
LOCATION:Neue Mittelschule II Wolkersdorf\, Kirchenplatz 7\, Wolkersdorf\, Niederösterreich\, 2120\, Austria
CATEGORIES:Feuerwehrjugend,Veranstaltung
END:VEVENT
END:VCALENDAR