BEGIN:VCALENDAR
VERSION:2.0
PRODID:-//Freiwillige Feuerwehr Niederkreuzstetten - ECPv6.15.18//NONSGML v1.0//EN
CALSCALE:GREGORIAN
METHOD:PUBLISH
X-ORIGINAL-URL:https://ff-niederkreuzstetten.at
X-WR-CALDESC:Veranstaltungen für Freiwillige Feuerwehr Niederkreuzstetten
REFRESH-INTERVAL;VALUE=DURATION:PT1H
X-Robots-Tag:noindex
X-PUBLISHED-TTL:PT1H
BEGIN:VTIMEZONE
TZID:Europe/Vienna
BEGIN:DAYLIGHT
TZOFFSETFROM:+0100
TZOFFSETTO:+0200
TZNAME:CEST
DTSTART:20230326T010000
END:DAYLIGHT
BEGIN:STANDARD
TZOFFSETFROM:+0200
TZOFFSETTO:+0100
TZNAME:CET
DTSTART:20231029T010000
END:STANDARD
BEGIN:DAYLIGHT
TZOFFSETFROM:+0100
TZOFFSETTO:+0200
TZNAME:CEST
DTSTART:20240331T010000
END:DAYLIGHT
BEGIN:STANDARD
TZOFFSETFROM:+0200
TZOFFSETTO:+0100
TZNAME:CET
DTSTART:20241027T010000
END:STANDARD
BEGIN:DAYLIGHT
TZOFFSETFROM:+0100
TZOFFSETTO:+0200
TZNAME:CEST
DTSTART:20250330T010000
END:DAYLIGHT
BEGIN:STANDARD
TZOFFSETFROM:+0200
TZOFFSETTO:+0100
TZNAME:CET
DTSTART:20251026T010000
END:STANDARD
END:VTIMEZONE
BEGIN:VEVENT
DTSTART;TZID=Europe/Vienna:20240217T180000
DTEND;TZID=Europe/Vienna:20240217T220000
DTSTAMP:20260424T032311
CREATED:20240106T115541Z
LAST-MODIFIED:20240217T152645Z
UID:2763-1708192800-1708207200@ff-niederkreuzstetten.at
SUMMARY:Jahreshauptversammlung 2024
DESCRIPTION:Tagesordnung\n\nEröffnung und Begrüßung\nFeststellung der Beschlussfähigkeit\nGenehmigung der Tagesordnung\nTotengedenken\nRechnungsabschluss\na.) Bericht des Kassenverwalters\nb.) Bericht der Kassaprüfer und Entlastung des Kassiers\nBestellung von zwei Kassaprüfern für das Jahr 2024\nVoranschlag 2024\nBericht des Kommandanten mit Beförderungen und Ehrungen\nBericht des Kommandantenstellvertreters\nBericht des Leiters Verwaltungsdienst\nAnsprache des Bürgermeisters\nNeuwahl des Kommandanten und Stellvertreters lt. §39 Abs\, 5 NÖFG\nKurzansprache des neuen Kommandanten\nVorhaben\, Ausbildung und Termine\nSchulung aller Mitglieder\nAllfälliges\n\n  \nJedes Mitglied ist verpflichtet an der Mitgliederversammlung teilzunehmen.\n Um verlässliches und pünktliches Erscheinen wird gebeten.
URL:https://ff-niederkreuzstetten.at/veranstaltung/jahreshauptversammlung-mit-wahl/
LOCATION:FF Niederkreuzstetten Zeughaus\, Hauptstrasse 2\, Niederkreuzstetten\, Niederösterreich\, 2124\, Österreich
CATEGORIES:Jahreshauptversammlung
END:VEVENT
BEGIN:VEVENT
DTSTART;TZID=Europe/Vienna:20240223T190000
DTEND;TZID=Europe/Vienna:20240223T210000
DTSTAMP:20260424T032311
CREATED:20240217T144229Z
LAST-MODIFIED:20240217T152652Z
UID:3124-1708714800-1708722000@ff-niederkreuzstetten.at
SUMMARY:Winterschulung
DESCRIPTION:
URL:https://ff-niederkreuzstetten.at/veranstaltung/winterschulung/
LOCATION:FF Niederkreuzstetten Zeughaus\, Hauptstrasse 2\, Niederkreuzstetten\, Niederösterreich\, 2124\, Österreich
CATEGORIES:Schulung
END:VEVENT
END:VCALENDAR