BEGIN:VCALENDAR
VERSION:2.0
PRODID:-//Freiwillige Feuerwehr Niederkreuzstetten - ECPv6.15.18//NONSGML v1.0//EN
CALSCALE:GREGORIAN
METHOD:PUBLISH
X-WR-CALNAME:Freiwillige Feuerwehr Niederkreuzstetten
X-ORIGINAL-URL:https://ff-niederkreuzstetten.at
X-WR-CALDESC:Veranstaltungen für Freiwillige Feuerwehr Niederkreuzstetten
REFRESH-INTERVAL;VALUE=DURATION:PT1H
X-Robots-Tag:noindex
X-PUBLISHED-TTL:PT1H
BEGIN:VTIMEZONE
TZID:Europe/Vienna
BEGIN:DAYLIGHT
TZOFFSETFROM:+0100
TZOFFSETTO:+0200
TZNAME:CEST
DTSTART:20230326T010000
END:DAYLIGHT
BEGIN:STANDARD
TZOFFSETFROM:+0200
TZOFFSETTO:+0100
TZNAME:CET
DTSTART:20231029T010000
END:STANDARD
BEGIN:DAYLIGHT
TZOFFSETFROM:+0100
TZOFFSETTO:+0200
TZNAME:CEST
DTSTART:20240331T010000
END:DAYLIGHT
BEGIN:STANDARD
TZOFFSETFROM:+0200
TZOFFSETTO:+0100
TZNAME:CET
DTSTART:20241027T010000
END:STANDARD
BEGIN:DAYLIGHT
TZOFFSETFROM:+0100
TZOFFSETTO:+0200
TZNAME:CEST
DTSTART:20250330T010000
END:DAYLIGHT
BEGIN:STANDARD
TZOFFSETFROM:+0200
TZOFFSETTO:+0100
TZNAME:CET
DTSTART:20251026T010000
END:STANDARD
END:VTIMEZONE
BEGIN:VEVENT
DTSTART;VALUE=DATE:20240406
DTEND;VALUE=DATE:20240407
DTSTAMP:20260424T010305
CREATED:20240216T210419Z
LAST-MODIFIED:20240216T212622Z
UID:3158-1712361600-1712447999@ff-niederkreuzstetten.at
SUMMARY:Wissenstest Abschnitte Mistelbach und Wolkersdorf
DESCRIPTION:Wissenstest \nVoraussetzung für den ersten Erwerb eines Wissenstestabzeichens (= die Stufe Bronze) ist die Vollendung des 12. Lebensjahres und die Mitgliedschaft bei der Feuerwehrjugend\, sowie eine entsprechende Ausbildung. \nFolgende Stationen sind durch die Teilnehmer erfolgreich zu absolvieren: \nWertungsklasse Bronze:\n\nStation „Testblatt“\nStation „Dienstgrade“\nStation „Geräte / Ausrüstung für den Brandeinsatz“\nStation „Geräte / Ausrüstung für den technischen Einsatz“\nStation „Kleinlöschgeräte“\nStation „Leinen / Knoten“\n\nWertungsklasse Silber:\n\nStation „Testblatt“\nStation „Dienstgrade“\nStation „Geräte / Ausrüstung für den Brandeinsatz“\nStation „Geräte / Ausrüstung für den technischen Einsatz“\nStation „Leinen / Knoten“\n\nWertungsklasse Gold:\n\nStation „Testblatt“\nStation „Dienstgrade“\nStation „Kleinlöschgeräte“\nStation „Schutzausrüstung“\nStation „Handhabung des Handfunkgerätes“
URL:https://ff-niederkreuzstetten.at/veranstaltung/wissenstest-abschnitte-mistelbach-und-wolkersdorf/
CATEGORIES:Feuerwehrjugend
ATTACH;FMTTYPE=image/png:https://ff-niederkreuzstetten.at/wp-content/uploads/2024/02/Screenshot-2024-02-16-222255.png
END:VEVENT
BEGIN:VEVENT
DTSTART;TZID=Europe/Vienna:20240413T160000
DTEND;TZID=Europe/Vienna:20240413T200000
DTSTAMP:20260424T010305
CREATED:20240217T144047Z
LAST-MODIFIED:20240319T174915Z
UID:3135-1713024000-1713038400@ff-niederkreuzstetten.at
SUMMARY:Unterabschnittsübung
DESCRIPTION:Die Unterabschnittsübung findet in Niederkreuzstetten statt. \nTeilnehmende Feuerwehren: \n\nFF Streifing\nFF Oberkreuzstetten
URL:https://ff-niederkreuzstetten.at/veranstaltung/unterabschnittsuebung/
LOCATION:FF Niederkreuzstetten Zeughaus\, Hauptstrasse 2\, Niederkreuzstetten\, Niederösterreich\, 2124\, Österreich
CATEGORIES:Übung
END:VEVENT
BEGIN:VEVENT
DTSTART;TZID=Europe/Vienna:20240430T180000
DTEND;TZID=Europe/Vienna:20240430T233000
DTSTAMP:20260424T010305
CREATED:20240217T144351Z
LAST-MODIFIED:20240217T144351Z
UID:3174-1714500000-1714519800@ff-niederkreuzstetten.at
SUMMARY:Maibaum aufstellen
DESCRIPTION:
URL:https://ff-niederkreuzstetten.at/veranstaltung/maibaum-aufstellen/
CATEGORIES:Veranstaltung
END:VEVENT
END:VCALENDAR