BEGIN:VCALENDAR
VERSION:2.0
PRODID:-//Freiwillige Feuerwehr Niederkreuzstetten - ECPv6.15.18//NONSGML v1.0//EN
CALSCALE:GREGORIAN
METHOD:PUBLISH
X-WR-CALNAME:Freiwillige Feuerwehr Niederkreuzstetten
X-ORIGINAL-URL:https://ff-niederkreuzstetten.at
X-WR-CALDESC:Veranstaltungen für Freiwillige Feuerwehr Niederkreuzstetten
REFRESH-INTERVAL;VALUE=DURATION:PT1H
X-Robots-Tag:noindex
X-PUBLISHED-TTL:PT1H
BEGIN:VTIMEZONE
TZID:Europe/Vienna
BEGIN:DAYLIGHT
TZOFFSETFROM:+0100
TZOFFSETTO:+0200
TZNAME:CEST
DTSTART:20230326T010000
END:DAYLIGHT
BEGIN:STANDARD
TZOFFSETFROM:+0200
TZOFFSETTO:+0100
TZNAME:CET
DTSTART:20231029T010000
END:STANDARD
BEGIN:DAYLIGHT
TZOFFSETFROM:+0100
TZOFFSETTO:+0200
TZNAME:CEST
DTSTART:20240331T010000
END:DAYLIGHT
BEGIN:STANDARD
TZOFFSETFROM:+0200
TZOFFSETTO:+0100
TZNAME:CET
DTSTART:20241027T010000
END:STANDARD
BEGIN:DAYLIGHT
TZOFFSETFROM:+0100
TZOFFSETTO:+0200
TZNAME:CEST
DTSTART:20250330T010000
END:DAYLIGHT
BEGIN:STANDARD
TZOFFSETFROM:+0200
TZOFFSETTO:+0100
TZNAME:CET
DTSTART:20251026T010000
END:STANDARD
END:VTIMEZONE
BEGIN:VEVENT
DTSTART;TZID=Europe/Vienna:20240504T190000
DTEND;TZID=Europe/Vienna:20240504T210000
DTSTAMP:20260423T233059
CREATED:20240217T143950Z
LAST-MODIFIED:20240501T183044Z
UID:3137-1714849200-1714856400@ff-niederkreuzstetten.at
SUMMARY:Florianimesse
DESCRIPTION:Treffpunkt um 18:30 bei Harry’s Gerüchteküche.
URL:https://ff-niederkreuzstetten.at/veranstaltung/florianimesse/
CATEGORIES:Veranstaltung
END:VEVENT
BEGIN:VEVENT
DTSTART;TZID=Europe/Vienna:20240513T190000
DTEND;TZID=Europe/Vienna:20240513T220000
DTSTAMP:20260423T233059
CREATED:20240217T143039Z
LAST-MODIFIED:20240217T143039Z
UID:3151-1715626800-1715637600@ff-niederkreuzstetten.at
SUMMARY:Übung: Türöffnung
DESCRIPTION:Bei dieser Übung wird mit Hilfe des neuen Werkzeuges die Öffnung einer Türe geübt.
URL:https://ff-niederkreuzstetten.at/veranstaltung/uebung-tueroeffnung/
LOCATION:FF Niederkreuzstetten Zeughaus\, Hauptstrasse 2\, Niederkreuzstetten\, Niederösterreich\, 2124\, Österreich
CATEGORIES:Übung
END:VEVENT
BEGIN:VEVENT
DTSTART;TZID=Europe/Vienna:20240518T080000
DTEND;TZID=Europe/Vienna:20240518T170000
DTSTAMP:20260423T233059
CREATED:20240216T210655Z
LAST-MODIFIED:20240216T210724Z
UID:3160-1716019200-1716051600@ff-niederkreuzstetten.at
SUMMARY:40. Bezirksfeuerwehrjugendleistungsbewerb Mistelbach
DESCRIPTION:Der Bezirksfeuerwehrjugendleistungsbewerb findet in Schrick statt.
URL:https://ff-niederkreuzstetten.at/veranstaltung/40-bezirksfeuerwehrjugendleistungsbewerb-mistelbach/
CATEGORIES:Feuerwehrjugend
END:VEVENT
BEGIN:VEVENT
DTSTART;TZID=Europe/Vienna:20240525T090000
DTEND;TZID=Europe/Vienna:20240525T160000
DTSTAMP:20260423T233059
CREATED:20240217T143850Z
LAST-MODIFIED:20240521T193824Z
UID:3139-1716627600-1716652800@ff-niederkreuzstetten.at
SUMMARY:Maschinistenausbildung - Basis - abgesagt
DESCRIPTION:
URL:https://ff-niederkreuzstetten.at/veranstaltung/maschinistenausbildung-basis/
LOCATION:FF Niederkreuzstetten Zeughaus\, Hauptstrasse 2\, Niederkreuzstetten\, Niederösterreich\, 2124\, Österreich
CATEGORIES:Schulung
END:VEVENT
BEGIN:VEVENT
DTSTART;TZID=Europe/Vienna:20240525T170000
DTEND;TZID=Europe/Vienna:20240525T220000
DTSTAMP:20260423T233059
CREATED:20240217T144940Z
LAST-MODIFIED:20240217T152814Z
UID:3141-1716656400-1716674400@ff-niederkreuzstetten.at
SUMMARY:Feuerwehrkirtag Vorbereitung
DESCRIPTION:Zeltaufbau \nVorbereitungen für den Heurigen / Kirtag treffen
URL:https://ff-niederkreuzstetten.at/veranstaltung/feuerwehrkirtag-vorbereitung/
LOCATION:FF Niederkreuzstetten Zeughaus\, Hauptstrasse 2\, Niederkreuzstetten\, Niederösterreich\, 2124\, Österreich
CATEGORIES:Veranstaltung
END:VEVENT
BEGIN:VEVENT
DTSTART;VALUE=DATE:20240530
DTEND;VALUE=DATE:20240531
DTSTAMP:20260423T233059
CREATED:20240216T210915Z
LAST-MODIFIED:20240216T210915Z
UID:3163-1717027200-1717113599@ff-niederkreuzstetten.at
SUMMARY:26. Abschnittsfeuerwehrjugendleistungsbewerb Laa/Thaya
DESCRIPTION:Der  26. Abschnittsfeuerwehrjugendleistungsbewerb findet in Neuruppersdorf statt.
URL:https://ff-niederkreuzstetten.at/veranstaltung/26-abschnittsfeuerwehrjugendleistungsbewerb-laa-thaya/
CATEGORIES:Feuerwehrjugend
END:VEVENT
BEGIN:VEVENT
DTSTART;TZID=Europe/Vienna:20240530T080000
DTEND;TZID=Europe/Vienna:20240530T120000
DTSTAMP:20260423T233059
CREATED:20240521T192857Z
LAST-MODIFIED:20240521T193349Z
UID:3981-1717056000-1717070400@ff-niederkreuzstetten.at
SUMMARY:Fronleichnam
DESCRIPTION:Treffpunkt am Sportplatz um 08:00
URL:https://ff-niederkreuzstetten.at/veranstaltung/fronleichnam/
LOCATION:Sportplatz Niederkreuzstetten\, Schulgasse 25\, Niederkreuzstetten\, Niederösterreich\, 2124\, Österreich
CATEGORIES:Veranstaltung
END:VEVENT
END:VCALENDAR