BEGIN:VCALENDAR
VERSION:2.0
PRODID:-//Freiwillige Feuerwehr Niederkreuzstetten - ECPv6.15.18//NONSGML v1.0//EN
CALSCALE:GREGORIAN
METHOD:PUBLISH
X-ORIGINAL-URL:https://ff-niederkreuzstetten.at
X-WR-CALDESC:Veranstaltungen für Freiwillige Feuerwehr Niederkreuzstetten
REFRESH-INTERVAL;VALUE=DURATION:PT1H
X-Robots-Tag:noindex
X-PUBLISHED-TTL:PT1H
BEGIN:VTIMEZONE
TZID:Europe/Vienna
BEGIN:DAYLIGHT
TZOFFSETFROM:+0100
TZOFFSETTO:+0200
TZNAME:CEST
DTSTART:20230326T010000
END:DAYLIGHT
BEGIN:STANDARD
TZOFFSETFROM:+0200
TZOFFSETTO:+0100
TZNAME:CET
DTSTART:20231029T010000
END:STANDARD
BEGIN:DAYLIGHT
TZOFFSETFROM:+0100
TZOFFSETTO:+0200
TZNAME:CEST
DTSTART:20240331T010000
END:DAYLIGHT
BEGIN:STANDARD
TZOFFSETFROM:+0200
TZOFFSETTO:+0100
TZNAME:CET
DTSTART:20241027T010000
END:STANDARD
BEGIN:DAYLIGHT
TZOFFSETFROM:+0100
TZOFFSETTO:+0200
TZNAME:CEST
DTSTART:20250330T010000
END:DAYLIGHT
BEGIN:STANDARD
TZOFFSETFROM:+0200
TZOFFSETTO:+0100
TZNAME:CET
DTSTART:20251026T010000
END:STANDARD
END:VTIMEZONE
BEGIN:VEVENT
DTSTART;TZID=Europe/Vienna:20240601T080000
DTEND;TZID=Europe/Vienna:20240602T220000
DTSTAMP:20260423T220350
CREATED:20240217T143741Z
LAST-MODIFIED:20240514T180406Z
UID:3143-1717228800-1717365600@ff-niederkreuzstetten.at
SUMMARY:Feuerwehr Kirtag / Heuriger
DESCRIPTION:
URL:https://ff-niederkreuzstetten.at/veranstaltung/feuerwehr-kirtag-heuriger/
LOCATION:FF Niederkreuzstetten Zeughaus\, Hauptstrasse 2\, Niederkreuzstetten\, Niederösterreich\, 2124\, Österreich
CATEGORIES:Veranstaltung
END:VEVENT
BEGIN:VEVENT
DTSTART;TZID=Europe/Vienna:20240620T190000
DTEND;TZID=Europe/Vienna:20240620T210000
DTSTAMP:20260423T220350
CREATED:20240217T152531Z
LAST-MODIFIED:20240219T163427Z
UID:3194-1718910000-1718917200@ff-niederkreuzstetten.at
SUMMARY:Einsatzübung
DESCRIPTION:Einsatzübung: Alarmierung (zu Hause) und Ablauf wie bei einem realen Einsatz! \nAlarmierung zwischen 19:00 und 19:15
URL:https://ff-niederkreuzstetten.at/veranstaltung/einsatzuebung-2/
LOCATION:FF Niederkreuzstetten Zeughaus\, Hauptstrasse 2\, Niederkreuzstetten\, Niederösterreich\, 2124\, Österreich
CATEGORIES:Übung
END:VEVENT
END:VCALENDAR