BEGIN:VCALENDAR
VERSION:2.0
PRODID:-//Freiwillige Feuerwehr Niederkreuzstetten - ECPv6.15.18//NONSGML v1.0//EN
CALSCALE:GREGORIAN
METHOD:PUBLISH
X-WR-CALNAME:Freiwillige Feuerwehr Niederkreuzstetten
X-ORIGINAL-URL:https://ff-niederkreuzstetten.at
X-WR-CALDESC:Veranstaltungen für Freiwillige Feuerwehr Niederkreuzstetten
REFRESH-INTERVAL;VALUE=DURATION:PT1H
X-Robots-Tag:noindex
X-PUBLISHED-TTL:PT1H
BEGIN:VTIMEZONE
TZID:Europe/Vienna
BEGIN:DAYLIGHT
TZOFFSETFROM:+0100
TZOFFSETTO:+0200
TZNAME:CEST
DTSTART:20230326T010000
END:DAYLIGHT
BEGIN:STANDARD
TZOFFSETFROM:+0200
TZOFFSETTO:+0100
TZNAME:CET
DTSTART:20231029T010000
END:STANDARD
BEGIN:DAYLIGHT
TZOFFSETFROM:+0100
TZOFFSETTO:+0200
TZNAME:CEST
DTSTART:20240331T010000
END:DAYLIGHT
BEGIN:STANDARD
TZOFFSETFROM:+0200
TZOFFSETTO:+0100
TZNAME:CET
DTSTART:20241027T010000
END:STANDARD
BEGIN:DAYLIGHT
TZOFFSETFROM:+0100
TZOFFSETTO:+0200
TZNAME:CEST
DTSTART:20250330T010000
END:DAYLIGHT
BEGIN:STANDARD
TZOFFSETFROM:+0200
TZOFFSETTO:+0100
TZNAME:CET
DTSTART:20251026T010000
END:STANDARD
END:VTIMEZONE
BEGIN:VEVENT
DTSTART;TZID=Europe/Vienna:20241021T190000
DTEND;TZID=Europe/Vienna:20241021T210000
DTSTAMP:20260423T153528
CREATED:20240217T142950Z
LAST-MODIFIED:20240217T142950Z
UID:3153-1729537200-1729544400@ff-niederkreuzstetten.at
SUMMARY:Atemschutz Finnentest
DESCRIPTION:
URL:https://ff-niederkreuzstetten.at/veranstaltung/atemschutz-finnentest/
LOCATION:FF Niederkreuzstetten Zeughaus\, Hauptstrasse 2\, Niederkreuzstetten\, Niederösterreich\, 2124\, Österreich
CATEGORIES:FitnessCheck
END:VEVENT
BEGIN:VEVENT
DTSTART;TZID=Europe/Vienna:20241021T190000
DTEND;TZID=Europe/Vienna:20241021T220000
DTSTAMP:20260423T153528
CREATED:20240217T145326Z
LAST-MODIFIED:20240217T150328Z
UID:3178-1729537200-1729548000@ff-niederkreuzstetten.at
SUMMARY:Maschinistenfortbildung
DESCRIPTION:
URL:https://ff-niederkreuzstetten.at/veranstaltung/maschinistenfortbildung/
LOCATION:FF Niederkreuzstetten Zeughaus\, Hauptstrasse 2\, Niederkreuzstetten\, Niederösterreich\, 2124\, Österreich
CATEGORIES:Schulung
END:VEVENT
BEGIN:VEVENT
DTSTART;TZID=Europe/Vienna:20241024T190000
DTEND;TZID=Europe/Vienna:20241024T210000
DTSTAMP:20260423T153528
CREATED:20240217T145248Z
LAST-MODIFIED:20240217T145449Z
UID:3176-1729796400-1729803600@ff-niederkreuzstetten.at
SUMMARY:Atemschutz Finnentest
DESCRIPTION:
URL:https://ff-niederkreuzstetten.at/veranstaltung/atemschutz-finnentest-2/
CATEGORIES:FitnessCheck
END:VEVENT
BEGIN:VEVENT
DTSTART;TZID=Europe/Vienna:20241024T190000
DTEND;TZID=Europe/Vienna:20241024T210000
DTSTAMP:20260423T153528
CREATED:20240217T145356Z
LAST-MODIFIED:20240217T150337Z
UID:3180-1729796400-1729803600@ff-niederkreuzstetten.at
SUMMARY:Maschinistenfortbildung
DESCRIPTION:
URL:https://ff-niederkreuzstetten.at/veranstaltung/maschinistenfortbildung-2/
LOCATION:FF Niederkreuzstetten Zeughaus\, Hauptstrasse 2\, Niederkreuzstetten\, Niederösterreich\, 2124\, Österreich
CATEGORIES:Schulung
END:VEVENT
END:VCALENDAR