BEGIN:VCALENDAR
VERSION:2.0
PRODID:-//Freiwillige Feuerwehr Niederkreuzstetten - ECPv6.15.18//NONSGML v1.0//EN
CALSCALE:GREGORIAN
METHOD:PUBLISH
X-ORIGINAL-URL:https://ff-niederkreuzstetten.at
X-WR-CALDESC:Veranstaltungen für Freiwillige Feuerwehr Niederkreuzstetten
REFRESH-INTERVAL;VALUE=DURATION:PT1H
X-Robots-Tag:noindex
X-PUBLISHED-TTL:PT1H
BEGIN:VTIMEZONE
TZID:Europe/Vienna
BEGIN:DAYLIGHT
TZOFFSETFROM:+0100
TZOFFSETTO:+0200
TZNAME:CEST
DTSTART:20230326T010000
END:DAYLIGHT
BEGIN:STANDARD
TZOFFSETFROM:+0200
TZOFFSETTO:+0100
TZNAME:CET
DTSTART:20231029T010000
END:STANDARD
BEGIN:DAYLIGHT
TZOFFSETFROM:+0100
TZOFFSETTO:+0200
TZNAME:CEST
DTSTART:20240331T010000
END:DAYLIGHT
BEGIN:STANDARD
TZOFFSETFROM:+0200
TZOFFSETTO:+0100
TZNAME:CET
DTSTART:20241027T010000
END:STANDARD
BEGIN:DAYLIGHT
TZOFFSETFROM:+0100
TZOFFSETTO:+0200
TZNAME:CEST
DTSTART:20250330T010000
END:DAYLIGHT
BEGIN:STANDARD
TZOFFSETFROM:+0200
TZOFFSETTO:+0100
TZNAME:CET
DTSTART:20251026T010000
END:STANDARD
END:VTIMEZONE
BEGIN:VEVENT
DTSTART;TZID=Europe/Vienna:20241125T190000
DTEND;TZID=Europe/Vienna:20241125T210000
DTSTAMP:20260423T140943
CREATED:20240217T145608Z
LAST-MODIFIED:20240217T145608Z
UID:3182-1732561200-1732568400@ff-niederkreuzstetten.at
SUMMARY:Zugsübung Verkehrsunfall - ZUG 1
DESCRIPTION:
URL:https://ff-niederkreuzstetten.at/veranstaltung/zugsuebung-verkehrsunfall-zug-1/
LOCATION:FF Niederkreuzstetten Zeughaus\, Hauptstrasse 2\, Niederkreuzstetten\, Niederösterreich\, 2124\, Österreich
CATEGORIES:Übung
END:VEVENT
BEGIN:VEVENT
DTSTART;TZID=Europe/Vienna:20241128T190000
DTEND;TZID=Europe/Vienna:20241128T210000
DTSTAMP:20260423T140943
CREATED:20240217T145702Z
LAST-MODIFIED:20240225T194005Z
UID:3184-1732820400-1732827600@ff-niederkreuzstetten.at
SUMMARY:Zugsübung Verkehrsunfall - ZUG 2
DESCRIPTION:
URL:https://ff-niederkreuzstetten.at/veranstaltung/zugsuebung-verkehrsunfall-zug-2/
LOCATION:FF Niederkreuzstetten Zeughaus\, Hauptstrasse 2\, Niederkreuzstetten\, Niederösterreich\, 2124\, Österreich
CATEGORIES:Übung
END:VEVENT
END:VCALENDAR