BEGIN:VCALENDAR
VERSION:2.0
PRODID:-//Freiwillige Feuerwehr Niederkreuzstetten - ECPv6.15.18//NONSGML v1.0//EN
CALSCALE:GREGORIAN
METHOD:PUBLISH
X-WR-CALNAME:Freiwillige Feuerwehr Niederkreuzstetten
X-ORIGINAL-URL:https://ff-niederkreuzstetten.at
X-WR-CALDESC:Veranstaltungen für Freiwillige Feuerwehr Niederkreuzstetten
REFRESH-INTERVAL;VALUE=DURATION:PT1H
X-Robots-Tag:noindex
X-PUBLISHED-TTL:PT1H
BEGIN:VTIMEZONE
TZID:Europe/Vienna
BEGIN:DAYLIGHT
TZOFFSETFROM:+0100
TZOFFSETTO:+0200
TZNAME:CEST
DTSTART:20240331T010000
END:DAYLIGHT
BEGIN:STANDARD
TZOFFSETFROM:+0200
TZOFFSETTO:+0100
TZNAME:CET
DTSTART:20241027T010000
END:STANDARD
BEGIN:DAYLIGHT
TZOFFSETFROM:+0100
TZOFFSETTO:+0200
TZNAME:CEST
DTSTART:20250330T010000
END:DAYLIGHT
BEGIN:STANDARD
TZOFFSETFROM:+0200
TZOFFSETTO:+0100
TZNAME:CET
DTSTART:20251026T010000
END:STANDARD
BEGIN:DAYLIGHT
TZOFFSETFROM:+0100
TZOFFSETTO:+0200
TZNAME:CEST
DTSTART:20260329T010000
END:DAYLIGHT
BEGIN:STANDARD
TZOFFSETFROM:+0200
TZOFFSETTO:+0100
TZNAME:CET
DTSTART:20261025T010000
END:STANDARD
END:VTIMEZONE
BEGIN:VEVENT
DTSTART;TZID=Europe/Vienna:20250317T190000
DTEND;TZID=Europe/Vienna:20250317T220000
DTSTAMP:20260423T084030
CREATED:20250219T211012Z
LAST-MODIFIED:20250222T144403Z
UID:5188-1742238000-1742248800@ff-niederkreuzstetten.at
SUMMARY:Zugsübung - ZUG 1
DESCRIPTION:Zugsübung für ZUG1 und alle aus ZUG2\, die zur Zugsübung ZUG2 nicht teilnehmen können.
URL:https://ff-niederkreuzstetten.at/veranstaltung/zugsuebung-zug-1/
LOCATION:FF Niederkreuzstetten Zeughaus\, Hauptstrasse 2\, Niederkreuzstetten\, Niederösterreich\, 2124\, Österreich
CATEGORIES:Übung
END:VEVENT
BEGIN:VEVENT
DTSTART;TZID=Europe/Vienna:20250320T190000
DTEND;TZID=Europe/Vienna:20250320T220000
DTSTAMP:20260423T084030
CREATED:20250222T143754Z
LAST-MODIFIED:20250222T151038Z
UID:5190-1742497200-1742508000@ff-niederkreuzstetten.at
SUMMARY:Zugsübung - ZUG 2
DESCRIPTION:Zugsübung für ZUG2 und alle aus ZUG1\, die zur Zugsübung ZUG1 nicht teilnehmen können.
URL:https://ff-niederkreuzstetten.at/veranstaltung/zugsuebung-zug-2/
LOCATION:FF Niederkreuzstetten Zeughaus\, Hauptstrasse 2\, Niederkreuzstetten\, Niederösterreich\, 2124\, Österreich
CATEGORIES:Übung
END:VEVENT
BEGIN:VEVENT
DTSTART;TZID=Europe/Vienna:20250329T131500
DTEND;TZID=Europe/Vienna:20250329T170000
DTSTAMP:20260423T084030
CREATED:20250324T062026Z
LAST-MODIFIED:20250324T062355Z
UID:5373-1743254100-1743267600@ff-niederkreuzstetten.at
SUMMARY:Wissenstestspiel u. Wissenstest der Feuerwehrjugend
DESCRIPTION:ORT: Neue Mittelschule II- Kirchenplatz\, Wolkersdorf
URL:https://ff-niederkreuzstetten.at/veranstaltung/wissenstestspiel-u-wissenstest-der-feuerwehrjugend/
LOCATION:Neue Mittelschule II Wolkersdorf\, Kirchenplatz 7\, Wolkersdorf\, Niederösterreich\, 2120\, Austria
CATEGORIES:Feuerwehrjugend,Veranstaltung
END:VEVENT
END:VCALENDAR