BEGIN:VCALENDAR
VERSION:2.0
PRODID:-//Freiwillige Feuerwehr Niederkreuzstetten - ECPv6.15.18//NONSGML v1.0//EN
CALSCALE:GREGORIAN
METHOD:PUBLISH
X-ORIGINAL-URL:https://ff-niederkreuzstetten.at
X-WR-CALDESC:Veranstaltungen für Freiwillige Feuerwehr Niederkreuzstetten
REFRESH-INTERVAL;VALUE=DURATION:PT1H
X-Robots-Tag:noindex
X-PUBLISHED-TTL:PT1H
BEGIN:VTIMEZONE
TZID:Europe/Vienna
BEGIN:DAYLIGHT
TZOFFSETFROM:+0100
TZOFFSETTO:+0200
TZNAME:CEST
DTSTART:20240331T010000
END:DAYLIGHT
BEGIN:STANDARD
TZOFFSETFROM:+0200
TZOFFSETTO:+0100
TZNAME:CET
DTSTART:20241027T010000
END:STANDARD
BEGIN:DAYLIGHT
TZOFFSETFROM:+0100
TZOFFSETTO:+0200
TZNAME:CEST
DTSTART:20250330T010000
END:DAYLIGHT
BEGIN:STANDARD
TZOFFSETFROM:+0200
TZOFFSETTO:+0100
TZNAME:CET
DTSTART:20251026T010000
END:STANDARD
BEGIN:DAYLIGHT
TZOFFSETFROM:+0100
TZOFFSETTO:+0200
TZNAME:CEST
DTSTART:20260329T010000
END:DAYLIGHT
BEGIN:STANDARD
TZOFFSETFROM:+0200
TZOFFSETTO:+0100
TZNAME:CET
DTSTART:20261025T010000
END:STANDARD
END:VTIMEZONE
BEGIN:VEVENT
DTSTART;TZID=Europe/Vienna:20250501T090000
DTEND;TZID=Europe/Vienna:20250501T140000
DTSTAMP:20260423T055703
CREATED:20250219T204747Z
LAST-MODIFIED:20250424T171859Z
UID:5196-1746090000-1746108000@ff-niederkreuzstetten.at
SUMMARY:Florianimesse - 140 Jahre FF Oberkreuzstetten
DESCRIPTION:Treffpunkt:\n09:00 beim FF Haus Niederkreuzstetten\n09:15 beim FF Haus Oberkreuzstetten \nBeginnn der Florianimesse um 09:30 \nAdjustierung:\nAusgangsuniform braun\, wer keine hat – Dienstbekleidung blau
URL:https://ff-niederkreuzstetten.at/veranstaltung/florianimesse-2/
LOCATION:FF Oberkreuzstetten\, Florianigasse 1\, Oberkreuzstetten\, Niederösterreich\, 2124\, Austria
CATEGORIES:Veranstaltung
END:VEVENT
BEGIN:VEVENT
DTSTART;TZID=Europe/Vienna:20250510T140000
DTEND;TZID=Europe/Vienna:20250510T190000
DTSTAMP:20260423T055703
CREATED:20250222T143810Z
LAST-MODIFIED:20250424T172123Z
UID:5199-1746885600-1746903600@ff-niederkreuzstetten.at
SUMMARY:Tag der offenen Tore
DESCRIPTION:TagDerOffenenTore25_v2
URL:https://ff-niederkreuzstetten.at/veranstaltung/tag-der-offenen-tore/
LOCATION:FF Niederkreuzstetten Zeughaus\, Hauptstrasse 2\, Niederkreuzstetten\, Niederösterreich\, 2124\, Österreich
CATEGORIES:Veranstaltung
END:VEVENT
BEGIN:VEVENT
DTSTART;TZID=Europe/Vienna:20250515T190000
DTEND;TZID=Europe/Vienna:20250515T220000
DTSTAMP:20260423T055703
CREATED:20250222T143815Z
LAST-MODIFIED:20250222T143815Z
UID:5201-1747335600-1747346400@ff-niederkreuzstetten.at
SUMMARY:Übung
DESCRIPTION:
URL:https://ff-niederkreuzstetten.at/veranstaltung/uebung-2/
LOCATION:FF Hautzendorf\, Kirchenstraße 25\, Hautzendorf\, Niederösterreich\, 2123\, Austria
CATEGORIES:Übung
END:VEVENT
BEGIN:VEVENT
DTSTART;TZID=Europe/Vienna:20250525T130000
DTEND;TZID=Europe/Vienna:20250525T200000
DTSTAMP:20260423T055703
CREATED:20250222T143820Z
LAST-MODIFIED:20250222T143820Z
UID:5205-1748178000-1748203200@ff-niederkreuzstetten.at
SUMMARY:Tag der Blasmusik
DESCRIPTION:
URL:https://ff-niederkreuzstetten.at/veranstaltung/tag-der-blasmusik/
LOCATION:Schloss Niederkreuzstetten\, Schloßstraße 1\, Niederkreuzstetten\, Niederösterreich\, 2124\, Austria
CATEGORIES:Veranstaltung
END:VEVENT
BEGIN:VEVENT
DTSTART;TZID=Europe/Vienna:20250527T190000
DTEND;TZID=Europe/Vienna:20250527T210000
DTSTAMP:20260423T055703
CREATED:20250222T143825Z
LAST-MODIFIED:20250518T191715Z
UID:5209-1748372400-1748379600@ff-niederkreuzstetten.at
SUMMARY:Arbeiten im Gleisbereich & richtiges Vorgehen bei Schadstoffunfällen
DESCRIPTION:
URL:https://ff-niederkreuzstetten.at/veranstaltung/uebung-schadstoff-oebb-block/
CATEGORIES:Übung
END:VEVENT
END:VCALENDAR