BEGIN:VCALENDAR
VERSION:2.0
PRODID:-//Freiwillige Feuerwehr Niederkreuzstetten - ECPv6.15.18//NONSGML v1.0//EN
CALSCALE:GREGORIAN
METHOD:PUBLISH
X-ORIGINAL-URL:https://ff-niederkreuzstetten.at
X-WR-CALDESC:Veranstaltungen für Freiwillige Feuerwehr Niederkreuzstetten
REFRESH-INTERVAL;VALUE=DURATION:PT1H
X-Robots-Tag:noindex
X-PUBLISHED-TTL:PT1H
BEGIN:VTIMEZONE
TZID:Europe/Vienna
BEGIN:DAYLIGHT
TZOFFSETFROM:+0100
TZOFFSETTO:+0200
TZNAME:CEST
DTSTART:20240331T010000
END:DAYLIGHT
BEGIN:STANDARD
TZOFFSETFROM:+0200
TZOFFSETTO:+0100
TZNAME:CET
DTSTART:20241027T010000
END:STANDARD
BEGIN:DAYLIGHT
TZOFFSETFROM:+0100
TZOFFSETTO:+0200
TZNAME:CEST
DTSTART:20250330T010000
END:DAYLIGHT
BEGIN:STANDARD
TZOFFSETFROM:+0200
TZOFFSETTO:+0100
TZNAME:CET
DTSTART:20251026T010000
END:STANDARD
BEGIN:DAYLIGHT
TZOFFSETFROM:+0100
TZOFFSETTO:+0200
TZNAME:CEST
DTSTART:20260329T010000
END:DAYLIGHT
BEGIN:STANDARD
TZOFFSETFROM:+0200
TZOFFSETTO:+0100
TZNAME:CET
DTSTART:20261025T010000
END:STANDARD
END:VTIMEZONE
BEGIN:VEVENT
DTSTART;TZID=Europe/Vienna:20251006T190000
DTEND;TZID=Europe/Vienna:20251006T220000
DTSTAMP:20260422T224419
CREATED:20250222T143923Z
LAST-MODIFIED:20251001T133015Z
UID:5223-1759777200-1759788000@ff-niederkreuzstetten.at
SUMMARY:ATS - Sturmübung
DESCRIPTION:
URL:https://ff-niederkreuzstetten.at/veranstaltung/ats-sturmuebung-block/
LOCATION:FF Niederkreuzstetten Zeughaus\, Hauptstrasse 2\, Niederkreuzstetten\, Niederösterreich\, 2124\, Österreich
CATEGORIES:Übung
END:VEVENT
BEGIN:VEVENT
DTSTART;TZID=Europe/Vienna:20251020T183000
DTEND;TZID=Europe/Vienna:20251020T210000
DTSTAMP:20260422T224419
CREATED:20250222T143927Z
LAST-MODIFIED:20250222T143927Z
UID:5225-1760985000-1760994000@ff-niederkreuzstetten.at
SUMMARY:Finnentest
DESCRIPTION:
URL:https://ff-niederkreuzstetten.at/veranstaltung/finnentest/
LOCATION:FF Niederkreuzstetten Zeughaus\, Hauptstrasse 2\, Niederkreuzstetten\, Niederösterreich\, 2124\, Österreich
CATEGORIES:FitnessCheck
END:VEVENT
BEGIN:VEVENT
DTSTART;TZID=Europe/Vienna:20251023T183000
DTEND;TZID=Europe/Vienna:20251023T210000
DTSTAMP:20260422T224419
CREATED:20250222T143931Z
LAST-MODIFIED:20250222T143949Z
UID:5227-1761244200-1761253200@ff-niederkreuzstetten.at
SUMMARY:Finnentest
DESCRIPTION:
URL:https://ff-niederkreuzstetten.at/veranstaltung/finnentest-2/
LOCATION:FF Niederkreuzstetten Zeughaus\, Hauptstrasse 2\, Niederkreuzstetten\, Niederösterreich\, 2124\, Österreich
CATEGORIES:FitnessCheck
END:VEVENT
END:VCALENDAR