BEGIN:VCALENDAR
VERSION:2.0
PRODID:-//Freiwillige Feuerwehr Niederkreuzstetten - ECPv6.15.18//NONSGML v1.0//EN
CALSCALE:GREGORIAN
METHOD:PUBLISH
X-WR-CALNAME:Freiwillige Feuerwehr Niederkreuzstetten
X-ORIGINAL-URL:https://ff-niederkreuzstetten.at
X-WR-CALDESC:Veranstaltungen für Freiwillige Feuerwehr Niederkreuzstetten
REFRESH-INTERVAL;VALUE=DURATION:PT1H
X-Robots-Tag:noindex
X-PUBLISHED-TTL:PT1H
BEGIN:VTIMEZONE
TZID:Europe/Vienna
BEGIN:DAYLIGHT
TZOFFSETFROM:+0100
TZOFFSETTO:+0200
TZNAME:CEST
DTSTART:20250330T010000
END:DAYLIGHT
BEGIN:STANDARD
TZOFFSETFROM:+0200
TZOFFSETTO:+0100
TZNAME:CET
DTSTART:20251026T010000
END:STANDARD
BEGIN:DAYLIGHT
TZOFFSETFROM:+0100
TZOFFSETTO:+0200
TZNAME:CEST
DTSTART:20260329T010000
END:DAYLIGHT
BEGIN:STANDARD
TZOFFSETFROM:+0200
TZOFFSETTO:+0100
TZNAME:CET
DTSTART:20261025T010000
END:STANDARD
BEGIN:DAYLIGHT
TZOFFSETFROM:+0100
TZOFFSETTO:+0200
TZNAME:CEST
DTSTART:20270328T010000
END:DAYLIGHT
BEGIN:STANDARD
TZOFFSETFROM:+0200
TZOFFSETTO:+0100
TZNAME:CET
DTSTART:20271031T010000
END:STANDARD
END:VTIMEZONE
BEGIN:VEVENT
DTSTART;VALUE=DATE:20260816
DTEND;VALUE=DATE:20260921
DTSTAMP:20260422T202234
CREATED:20260110T115819Z
LAST-MODIFIED:20260110T115819Z
UID:6427-1786838400-1789948799@ff-niederkreuzstetten.at
SUMMARY:Grillfeier - Terminaviso
DESCRIPTION:Der exakte Termin wird noch bekannt gegeben.
URL:https://ff-niederkreuzstetten.at/veranstaltung/grillfeier-terminaviso/
END:VEVENT
BEGIN:VEVENT
DTSTART;TZID=Europe/Vienna:20260921T190000
DTEND;TZID=Europe/Vienna:20260921T220000
DTSTAMP:20260422T202234
CREATED:20260110T115916Z
LAST-MODIFIED:20260110T115916Z
UID:6429-1790017200-1790028000@ff-niederkreuzstetten.at
SUMMARY:Zugsübung – Gruppe 1
DESCRIPTION:Zugsübung für Gruppe 1 und alle aus Gruppe 2\,  die zum Termin Gruppe 2 nicht teilnehmen können.
URL:https://ff-niederkreuzstetten.at/veranstaltung/zugsuebung-gruppe-1-2/
LOCATION:FF Niederkreuzstetten Zeughaus\, Hauptstrasse 2\, Niederkreuzstetten\, Niederösterreich\, 2124\, Österreich
CATEGORIES:Übung
END:VEVENT
BEGIN:VEVENT
DTSTART;TZID=Europe/Vienna:20260924T190000
DTEND;TZID=Europe/Vienna:20260924T220000
DTSTAMP:20260422T202234
CREATED:20260110T120015Z
LAST-MODIFIED:20260110T120015Z
UID:6431-1790276400-1790287200@ff-niederkreuzstetten.at
SUMMARY:Zugsübung – Gruppe 2
DESCRIPTION:Zugsübung für Gruppe 2 und alle aus Gruppe 1\,  die zum Termin Gruppe 2 nicht teilnehmen können
URL:https://ff-niederkreuzstetten.at/veranstaltung/zugsuebung-gruppe-2-2/
LOCATION:FF Niederkreuzstetten Zeughaus\, Hauptstrasse 2\, Niederkreuzstetten\, Niederösterreich\, 2124\, Österreich
END:VEVENT
BEGIN:VEVENT
DTSTART;VALUE=DATE:20260928
DTEND;VALUE=DATE:20261012
DTSTAMP:20260422T202234
CREATED:20260110T120126Z
LAST-MODIFIED:20260110T120126Z
UID:6433-1790553600-1791763199@ff-niederkreuzstetten.at
SUMMARY:Sturmübung - Terminaviso
DESCRIPTION:Der exakte Termin wird noch bekannt gegeben.
URL:https://ff-niederkreuzstetten.at/veranstaltung/sturmuebung-terminaviso/
LOCATION:FF Niederkreuzstetten Zeughaus\, Hauptstrasse 2\, Niederkreuzstetten\, Niederösterreich\, 2124\, Österreich
CATEGORIES:Übung
END:VEVENT
BEGIN:VEVENT
DTSTART;VALUE=DATE:20260929
DTEND;VALUE=DATE:20261101
DTSTAMP:20260422T202234
CREATED:20260110T120636Z
LAST-MODIFIED:20260110T120636Z
UID:6439-1790640000-1793491199@ff-niederkreuzstetten.at
SUMMARY:HLF3 Intensivausbildung - Terminaviso
DESCRIPTION:exakte Termine werden noch bekannt geben
URL:https://ff-niederkreuzstetten.at/veranstaltung/hlf3-intensivausbildung-terminaviso/
CATEGORIES:Übung
END:VEVENT
END:VCALENDAR