BEGIN:VCALENDAR
VERSION:2.0
PRODID:-//Freiwillige Feuerwehr Niederkreuzstetten - ECPv6.15.18//NONSGML v1.0//EN
CALSCALE:GREGORIAN
METHOD:PUBLISH
X-WR-CALNAME:Freiwillige Feuerwehr Niederkreuzstetten
X-ORIGINAL-URL:https://ff-niederkreuzstetten.at
X-WR-CALDESC:Veranstaltungen für Freiwillige Feuerwehr Niederkreuzstetten
REFRESH-INTERVAL;VALUE=DURATION:PT1H
X-Robots-Tag:noindex
X-PUBLISHED-TTL:PT1H
BEGIN:VTIMEZONE
TZID:Europe/Vienna
BEGIN:DAYLIGHT
TZOFFSETFROM:+0100
TZOFFSETTO:+0200
TZNAME:CEST
DTSTART:20260329T010000
END:DAYLIGHT
BEGIN:STANDARD
TZOFFSETFROM:+0200
TZOFFSETTO:+0100
TZNAME:CET
DTSTART:20261025T010000
END:STANDARD
BEGIN:DAYLIGHT
TZOFFSETFROM:+0100
TZOFFSETTO:+0200
TZNAME:CEST
DTSTART:20270328T010000
END:DAYLIGHT
BEGIN:STANDARD
TZOFFSETFROM:+0200
TZOFFSETTO:+0100
TZNAME:CET
DTSTART:20271031T010000
END:STANDARD
BEGIN:DAYLIGHT
TZOFFSETFROM:+0100
TZOFFSETTO:+0200
TZNAME:CEST
DTSTART:20280326T010000
END:DAYLIGHT
BEGIN:STANDARD
TZOFFSETFROM:+0200
TZOFFSETTO:+0100
TZNAME:CET
DTSTART:20281029T010000
END:STANDARD
END:VTIMEZONE
BEGIN:VEVENT
DTSTART;TZID=Europe/Vienna:20270123T180000
DTEND;TZID=Europe/Vienna:20270123T220000
DTSTAMP:20260423T022521
CREATED:20260110T120739Z
LAST-MODIFIED:20260110T120739Z
UID:6441-1800727200-1800741600@ff-niederkreuzstetten.at
SUMMARY:Jahreshauptversammlung 2027
DESCRIPTION:
URL:https://ff-niederkreuzstetten.at/veranstaltung/jahreshauptversammlung-2027/
LOCATION:FF Niederkreuzstetten Zeughaus\, Hauptstrasse 2\, Niederkreuzstetten\, Niederösterreich\, 2124\, Österreich
END:VEVENT
END:VCALENDAR